BEGIN:VCALENDAR
VERSION:2.0
PRODID:-//Ąžuoliukas - ECPv6.2.8.1//NONSGML v1.0//EN
CALSCALE:GREGORIAN
METHOD:PUBLISH
X-WR-CALNAME:Ąžuoliukas
X-ORIGINAL-URL:https://www.azuoliukas.lt
X-WR-CALDESC:Events for Ąžuoliukas
REFRESH-INTERVAL;VALUE=DURATION:PT1H
X-Robots-Tag:noindex
X-PUBLISHED-TTL:PT1H
BEGIN:VTIMEZONE
TZID:Europe/Moscow
BEGIN:STANDARD
TZOFFSETFROM:+0300
TZOFFSETTO:+0300
TZNAME:MSK
DTSTART:20260101T000000
END:STANDARD
END:VTIMEZONE
BEGIN:VEVENT
DTSTART;TZID=Europe/Moscow:20260429T100000
DTEND;TZID=Europe/Moscow:20260429T100000
DTSTAMP:20260426T014700
CREATED:20260423T184125Z
LAST-MODIFIED:20260423T184125Z
UID:9502-1777456800-1777456800@www.azuoliukas.lt
SUMMARY:Antroji Vilniaus dainuojančių berniukų šventė „Dainuoju su „Ąžuoliuku“
DESCRIPTION:Vaikystės patirtys kloja pamatą žmogaus gyvenimo sėkmei. Labai svarbu\, kad jos būtų palankios\, auginančios\, praturtinančios. Meninė raiška yra viena geriausių terpių vaiko individualumui\, unikalumui skleistis. Tad siekiame kurti Vilniaus mažyliams kuo daugiau auginančių\, praturtinančių veiklų ir galimybę per dainavimą patirti įsimintinas\, teigiamas emocijas. \n2026 m. balandžio 29 d. 10.00 val. kviečiame į antrąją „Dainuoju su „Ąžuoliuku“ šventę. \nŠventės tikslas – puoselėti Lietuvos berniukų ir jaunuolių chorinio dainavimo tradicijas\, sudaryti sąlygas ikimokyklinio amžiaus berniukams dainuoti drauge\, išgyventi bendrystę ir muzikavimo džiaugsmą. \nŠiais metais šventėje dalyvaus Vilniaus lopšelių-darželių „Aušrelė“\, „Bitutė“\, „Boružėlė“\, „Gelvonėlis“\, „Geniukų kalvė“\, „Jovarėlis“\, „Pasakaitė“ ir „Vaiko medis“ solistai ir ansambliai\, Karalienės Mortos\, Riešės gimnazijos ir „Ąžuoliuko“ muzikos mokyklos berniukų chorai. \nŠventės dalyviai džiugins publiką savo pasirodymais\, o renginį vainikuos jungtinio berniukų choro\, sudaryto iš daugiau\, nei 150 dainininkų\, atliekama daina „Pavasaris“ (A. Raudonikio muz.\, M. Vainilaičio žodž.). Chorui diriguos šventės globėjas\, Vilniaus miesto garbės pilietis prof. Vytautas Miškinis. \nĮtraukiančią ir įsimenančią renginio atmosferą kurs šventės vedėja\, aktorė Gintarė Latvėnaitė-Glušajeva. \nOrganizatoriaiBerniukų ir jaunuolių choras „Ąžuoliukas“Vilniaus Ąžuoliuko“ muzikos mokykla \nPartnerisVilniaus kultūros centras \nRėmėjaiLietuvos rašytojų sąjungaUAB Huracan CoffeeUAB Eckes-Granini Baltic \nFinansuojaVilniaus miesto savivaldybė
URL:https://www.azuoliukas.lt/renginys/antroji-vilniaus-dainuojanciu-berniuku-svente-dainuoju-su-azuoliuku/
LOCATION:Šv. Kotrynos bažnyčia\, Vilniaus g. 30\, Vilnius\, 01119\, Lietuva
ATTACH;FMTTYPE=image/jpeg:https://www.azuoliukas.lt/wp-content/uploads/2026/04/Dainuoju-su-Azuoliuku-2026_FB-event_FB-event-scaled.jpg
ORGANIZER;CN="Berniuk%C5%B3 ir jaunuoli%C5%B3 choras %E2%80%9E%C4%84%C5%BEuoliukas%E2%80%9C":MAILTO:info@azuoliukas.lt
END:VEVENT
END:VCALENDAR